BEGIN:VCALENDAR
VERSION:2.0
PRODID:-//KulturNetzwerk Leimen e.V. - ECPv6.15.20//NONSGML v1.0//EN
CALSCALE:GREGORIAN
METHOD:PUBLISH
X-WR-CALNAME:KulturNetzwerk Leimen e.V.
X-ORIGINAL-URL:https://kultur-netzwerk-leimen.de
X-WR-CALDESC:Veranstaltungen für KulturNetzwerk Leimen e.V.
REFRESH-INTERVAL;VALUE=DURATION:PT1H
X-Robots-Tag:noindex
X-PUBLISHED-TTL:PT1H
BEGIN:VTIMEZONE
TZID:UTC
BEGIN:STANDARD
TZOFFSETFROM:+0000
TZOFFSETTO:+0000
TZNAME:UTC
DTSTART:20250101T000000
END:STANDARD
END:VTIMEZONE
BEGIN:VEVENT
DTSTART;TZID=UTC:20260424T080000
DTEND;TZID=UTC:20260424T170000
DTSTAMP:20260420T085932
CREATED:20260316T133510Z
LAST-MODIFIED:20260323T155121Z
UID:10002497-1777017600-1777050000@kultur-netzwerk-leimen.de
SUMMARY:„Der Damenclub des Marquis Crossing und sein erster Mordversuch“ - Vorhang Auf
DESCRIPTION:„Der Damenclub des Marquis Crossing und sein erster Mordversuch“ \n So lautet der Titel der Kriminalkomödie von Pat Cook\, die „VORHANG AUF“\, Theater im Melanchthon-Haus\, Leimen am 18. und 19.April 2026\, sowie am 24. und 25.April 2026 zur Aufführung bringen will. \nDiese Produktion sollte bereits im Jahr 2020 herauskommen\, musste aber damals wegen Corona drei Wochen vor der Premiere abgesagt werden. Nun haben sich die Amateurschauspieler entschlossen\, diese Kriminalkomödie wieder in den Spielplan aufzunehmen. Bis auf eine Rolle sind alle im Stück vorkommenden Personen mit den gleichen Darstellern von damals besetzt. \nUnd eifrig\, wie das „Theatervölkchen“ nun mal ist\, wurden keine Sommerferien gemacht\, sondern es wurde intensiv und ergebnisreich geprobt. Vieles sieht schon gut aus und so manches braucht noch ein bisschen. Aber bis April ist ja auch noch Zeit. Trotzdem sollte man sich die Aufführungstermine schon einmal vormerken\, denn das Publikum darf sich auf einen lustigen und spannenden Theaterabend freuen. Der Vorverkaufsbeginn beginnt am 6.März 2026.
URL:https://kultur-netzwerk-leimen.de/?tribe_events=der-damenclub-des-marquis-crossing-und-sein-erster-mordversuch-vorhang-auf&eventDate=2026-04-24
LOCATION:Philipp-Melanchton-Haus Leimen\, Turmgasse 21\, Leimen\, 69181\, Deutschland
ATTACH;FMTTYPE=image/jpeg:https://kultur-netzwerk-leimen.de/wp-content/uploads/2025/11/Damenclub-Plakat.jpeg
END:VEVENT
BEGIN:VEVENT
DTSTART;TZID=UTC:20260425T080000
DTEND;TZID=UTC:20260425T170000
DTSTAMP:20260420T085932
CREATED:20260316T133510Z
LAST-MODIFIED:20260323T155121Z
UID:10002498-1777104000-1777136400@kultur-netzwerk-leimen.de
SUMMARY:„Der Damenclub des Marquis Crossing und sein erster Mordversuch“ - Vorhang Auf
DESCRIPTION:„Der Damenclub des Marquis Crossing und sein erster Mordversuch“ \n So lautet der Titel der Kriminalkomödie von Pat Cook\, die „VORHANG AUF“\, Theater im Melanchthon-Haus\, Leimen am 18. und 19.April 2026\, sowie am 24. und 25.April 2026 zur Aufführung bringen will. \nDiese Produktion sollte bereits im Jahr 2020 herauskommen\, musste aber damals wegen Corona drei Wochen vor der Premiere abgesagt werden. Nun haben sich die Amateurschauspieler entschlossen\, diese Kriminalkomödie wieder in den Spielplan aufzunehmen. Bis auf eine Rolle sind alle im Stück vorkommenden Personen mit den gleichen Darstellern von damals besetzt. \nUnd eifrig\, wie das „Theatervölkchen“ nun mal ist\, wurden keine Sommerferien gemacht\, sondern es wurde intensiv und ergebnisreich geprobt. Vieles sieht schon gut aus und so manches braucht noch ein bisschen. Aber bis April ist ja auch noch Zeit. Trotzdem sollte man sich die Aufführungstermine schon einmal vormerken\, denn das Publikum darf sich auf einen lustigen und spannenden Theaterabend freuen. Der Vorverkaufsbeginn beginnt am 6.März 2026.
URL:https://kultur-netzwerk-leimen.de/?tribe_events=der-damenclub-des-marquis-crossing-und-sein-erster-mordversuch-vorhang-auf&eventDate=2026-04-25
LOCATION:Philipp-Melanchton-Haus Leimen\, Turmgasse 21\, Leimen\, 69181\, Deutschland
ATTACH;FMTTYPE=image/jpeg:https://kultur-netzwerk-leimen.de/wp-content/uploads/2025/11/Damenclub-Plakat.jpeg
END:VEVENT
BEGIN:VEVENT
DTSTART;TZID=UTC:20260425T140000
DTEND;TZID=UTC:20260425T160000
DTSTAMP:20260420T085932
CREATED:20260110T124905Z
LAST-MODIFIED:20260110T124905Z
UID:10002510-1777125600-1777132800@kultur-netzwerk-leimen.de
SUMMARY:Pflanzen-Tausch-Börse
DESCRIPTION:Pflanzentauschbörse\nVeranstaltungen\n\n\n\n\n\n\n25.04.2026\n\n14:00 Uhr bis 16:00 Uhr\n\nLeimen Legt Los\n\n06224/950314\n\nim Hof der Firma Bortz GartenGut \n\n 
URL:https://kultur-netzwerk-leimen.de/?tribe_events=pflanzen-tausch-boerse
ATTACH;FMTTYPE=image/jpeg:https://kultur-netzwerk-leimen.de/wp-content/uploads/2026/01/Leimen_legt_los.jpg
END:VEVENT
BEGIN:VEVENT
DTSTART;TZID=UTC:20260425T150000
DTEND;TZID=UTC:20260425T170000
DTSTAMP:20260420T085932
CREATED:20260212T163928Z
LAST-MODIFIED:20260212T164410Z
UID:10002564-1777129200-1777136400@kultur-netzwerk-leimen.de
SUMMARY:"dingfest" - Ausstellung Kunstverein Leimen
DESCRIPTION:Papierarbeiten zweier Professoren für Kunstpädagogik \nIn der Werkschau dingfest zeigt der Kunstverein Leimen vom 14.03. bis 18.04.2026 Arbeiten mit/in/aus Papier der beiden Künstler Thomas Heyl und Lutz Schäfer.  \nLutz Schäfer arbeitet bevorzugt mit Papier und Pappmaché\, in Installationen und Objekten verarbeitet er Alltags- und Kulturgüter – wie juristische Texte oder ausgediente Bücher – zu ironisch-reflektierenden Arbeiten. Er schafft räumliche Gebilde aus der Papiermasse\, die bauchig\, gestreckt und auch wulstig sein können. Die Papierkörper schmiegen sich um Kanten\, rollen sich ein und scheinen mit ihrer Unterlage verwachsen zu sein. Durch zahllose Farbschichten auf Papier entstehen körperhafte Gebilde. Schäfer studierte Bildhauerei bei Stephan Balkenhol an der Akademie der Bildenden Künste Karlsruhe\, er hatte Lehraufträge an der TH Karlsruhe inne und promovierte an der Fakultät für Bildende Kunst in Berlin.  \nDie Bilder von Thomas Heyl korrespondieren mit der Formensprache der Plastiken von Lutz Schäfer. Thomas Heyl studierte Malerei und Kunsterziehung an der Akademie der Bildenden Künste München und lehrt heute Kunst und Didaktik an der PH Freiburg. Mehrere Auszeichnungen kennzeichnen seinen künstlerischen Weg. Heyl arbeitet in zwei Techniken: der Malerei und dem Papierschnitt\, beides auf dem Bildträger Papier. Er kombiniert Malerei oft mit Scherenschnitt; seine filigranen Papierarbeiten verschmelzen Malerei und Schnitt zu räumlich wirkenden Bildern und Objekten. Thomas Heyl spielt mit unserer Wahrnehmung.  \nZur Ausstellung erscheint ein Online-Katalog. \nDie Vernissage in der Alten Zigarrenfabrik in St. Ilgen findet am 14. März 2026 um 18:00 Uhr statt. \nEinführung: Dr. Christiane Kothe\, M.A.  \nMusik: Musikschule Leimen \nDauer der Ausstellung: 14. März bis 18. April 2026\, geöffnet ist samstags und sonntags von 15:00 bis 17:00 Uhr.  \nSonderveranstaltungen \nAm 28. März 2026 um 15:30 Uhr findet ein Künstlergespräch statt.  \nFür Schülerinnen und Schüler findet ein kreativer Workshop statt.  \nFreuen Sie sich auf eine spannende und hochinteressante Ausstellung! \n Ihr Kunstverein Leimen Christa Foß/Presse- und Öffentlichkeitsarbeit \n 
URL:https://kultur-netzwerk-leimen.de/?tribe_events=dingfest-ausstellung-kunstverein-leimen&eventDate=2026-04-25
LOCATION:Alte Fabrik St.Ilgen\, Theodor-Heuss-Str. 41\, Leimen\, 69181\, Deutschland
ATTACH;FMTTYPE=image/jpeg:https://kultur-netzwerk-leimen.de/wp-content/uploads/2026/02/plakat-dingfest.jpeg
END:VEVENT
BEGIN:VEVENT
DTSTART;TZID=UTC:20260426T140000
DTEND;TZID=UTC:20260426T140000
DTSTAMP:20260420T085932
CREATED:20260110T132835Z
LAST-MODIFIED:20260110T132835Z
UID:10002519-1777212000-1777212000@kultur-netzwerk-leimen.de
SUMMARY:Frühlingsfest - Gauangelloch mit Sommertagsumzug
DESCRIPTION:Frühlingsfest – Gauangelloch 2026 – mit Sommertagsumzug\n\n26.04.2026\n\n14:00 Uhr\n\nStadt Leimen\n\nLeimen-Gauangelloch
URL:https://kultur-netzwerk-leimen.de/?tribe_events=fruehlingsfest-gauangelloch-mit-sommertagsumzug
LOCATION:Gauangelloch
ATTACH;FMTTYPE=image/png:https://kultur-netzwerk-leimen.de/wp-content/uploads/2025/11/DEU_Leimen_Baden_COA.svg_.png
END:VEVENT
BEGIN:VEVENT
DTSTART;TZID=UTC:20260426T150000
DTEND;TZID=UTC:20260426T170000
DTSTAMP:20260420T085932
CREATED:20260212T163928Z
LAST-MODIFIED:20260212T164410Z
UID:10002565-1777215600-1777222800@kultur-netzwerk-leimen.de
SUMMARY:"dingfest" - Ausstellung Kunstverein Leimen
DESCRIPTION:Papierarbeiten zweier Professoren für Kunstpädagogik \nIn der Werkschau dingfest zeigt der Kunstverein Leimen vom 14.03. bis 18.04.2026 Arbeiten mit/in/aus Papier der beiden Künstler Thomas Heyl und Lutz Schäfer.  \nLutz Schäfer arbeitet bevorzugt mit Papier und Pappmaché\, in Installationen und Objekten verarbeitet er Alltags- und Kulturgüter – wie juristische Texte oder ausgediente Bücher – zu ironisch-reflektierenden Arbeiten. Er schafft räumliche Gebilde aus der Papiermasse\, die bauchig\, gestreckt und auch wulstig sein können. Die Papierkörper schmiegen sich um Kanten\, rollen sich ein und scheinen mit ihrer Unterlage verwachsen zu sein. Durch zahllose Farbschichten auf Papier entstehen körperhafte Gebilde. Schäfer studierte Bildhauerei bei Stephan Balkenhol an der Akademie der Bildenden Künste Karlsruhe\, er hatte Lehraufträge an der TH Karlsruhe inne und promovierte an der Fakultät für Bildende Kunst in Berlin.  \nDie Bilder von Thomas Heyl korrespondieren mit der Formensprache der Plastiken von Lutz Schäfer. Thomas Heyl studierte Malerei und Kunsterziehung an der Akademie der Bildenden Künste München und lehrt heute Kunst und Didaktik an der PH Freiburg. Mehrere Auszeichnungen kennzeichnen seinen künstlerischen Weg. Heyl arbeitet in zwei Techniken: der Malerei und dem Papierschnitt\, beides auf dem Bildträger Papier. Er kombiniert Malerei oft mit Scherenschnitt; seine filigranen Papierarbeiten verschmelzen Malerei und Schnitt zu räumlich wirkenden Bildern und Objekten. Thomas Heyl spielt mit unserer Wahrnehmung.  \nZur Ausstellung erscheint ein Online-Katalog. \nDie Vernissage in der Alten Zigarrenfabrik in St. Ilgen findet am 14. März 2026 um 18:00 Uhr statt. \nEinführung: Dr. Christiane Kothe\, M.A.  \nMusik: Musikschule Leimen \nDauer der Ausstellung: 14. März bis 18. April 2026\, geöffnet ist samstags und sonntags von 15:00 bis 17:00 Uhr.  \nSonderveranstaltungen \nAm 28. März 2026 um 15:30 Uhr findet ein Künstlergespräch statt.  \nFür Schülerinnen und Schüler findet ein kreativer Workshop statt.  \nFreuen Sie sich auf eine spannende und hochinteressante Ausstellung! \n Ihr Kunstverein Leimen Christa Foß/Presse- und Öffentlichkeitsarbeit \n 
URL:https://kultur-netzwerk-leimen.de/?tribe_events=dingfest-ausstellung-kunstverein-leimen&eventDate=2026-04-26
LOCATION:Alte Fabrik St.Ilgen\, Theodor-Heuss-Str. 41\, Leimen\, 69181\, Deutschland
ATTACH;FMTTYPE=image/jpeg:https://kultur-netzwerk-leimen.de/wp-content/uploads/2026/02/plakat-dingfest.jpeg
END:VEVENT
BEGIN:VEVENT
DTSTART;TZID=UTC:20260426T190000
DTEND;TZID=UTC:20260426T213000
DTSTAMP:20260420T085932
CREATED:20260110T133541Z
LAST-MODIFIED:20260110T133541Z
UID:10002520-1777230000-1777239000@kultur-netzwerk-leimen.de
SUMMARY:"Testsieger" - musikalisches Kabarett mit Shakti und Matze
DESCRIPTION:Musikalisches Kabarett mit den Künstlern Shakti und Matze\, „Testsieger“\n\n\n\n26.04.2026\n\n\n19:00 Uhr bis 21:30 Uhr\nKulturkreis Leimen\n\nBürgerhaus Leimen-Rosesaal
URL:https://kultur-netzwerk-leimen.de/?tribe_events=testsieger-musikalisches-kabarett-mit-shakti-und-matze
LOCATION:Bürgerhaus „Am Alten Stadttor“\, Nußlocher Straße\, Leimen\, 69181\, Deutschland
ATTACH;FMTTYPE=image/png:https://kultur-netzwerk-leimen.de/wp-content/uploads/2026/01/Kulturkreis-Leimen-300x65-1.png
END:VEVENT
END:VCALENDAR